BEGIN:VCALENDAR
VERSION:2.0
PRODID:-//Native Care - ECPv6.15.20//NONSGML v1.0//EN
CALSCALE:GREGORIAN
METHOD:PUBLISH
X-ORIGINAL-URL:https://www.nativecare.com
X-WR-CALDESC:Events for Native Care
REFRESH-INTERVAL;VALUE=DURATION:PT1H
X-Robots-Tag:noindex
X-PUBLISHED-TTL:PT1H
BEGIN:VTIMEZONE
TZID:America/Chicago
BEGIN:DAYLIGHT
TZOFFSETFROM:-0600
TZOFFSETTO:-0500
TZNAME:CDT
DTSTART:20240310T080000
END:DAYLIGHT
BEGIN:STANDARD
TZOFFSETFROM:-0500
TZOFFSETTO:-0600
TZNAME:CST
DTSTART:20241103T070000
END:STANDARD
BEGIN:DAYLIGHT
TZOFFSETFROM:-0600
TZOFFSETTO:-0500
TZNAME:CDT
DTSTART:20250309T080000
END:DAYLIGHT
BEGIN:STANDARD
TZOFFSETFROM:-0500
TZOFFSETTO:-0600
TZNAME:CST
DTSTART:20251102T070000
END:STANDARD
BEGIN:DAYLIGHT
TZOFFSETFROM:-0600
TZOFFSETTO:-0500
TZNAME:CDT
DTSTART:20260308T080000
END:DAYLIGHT
BEGIN:STANDARD
TZOFFSETFROM:-0500
TZOFFSETTO:-0600
TZNAME:CST
DTSTART:20261101T070000
END:STANDARD
END:VTIMEZONE
BEGIN:VEVENT
DTSTART;TZID=America/Chicago:20250530T100000
DTEND;TZID=America/Chicago:20250531T160000
DTSTAMP:20260421T084425
CREATED:20250530T224202Z
LAST-MODIFIED:20250530T224202Z
UID:1758-1748599200-1748707200@www.nativecare.com
SUMMARY:Infused Massages
DESCRIPTION:Relax\, restore\, and rejuvenate with Infused Massages at NativeCare! Join us from 10am to 4pm for a one-of-a-kind massage experience enhanced with cannabis-infused oils\, designed to ease tension\, reduce stress\, and promote deep relaxation. Don’t miss your chance to unwind the NativeCare way! May 30th and 31!
URL:https://www.nativecare.com/event/infused-massages/
ATTACH;FMTTYPE=image/jpeg:https://www.nativecare.com/wp-content/uploads/2025/05/499932064_122181066638313596_6049868385654897740_n.jpg
END:VEVENT
END:VCALENDAR